BEGIN:VCALENDAR
VERSION:2.0
PRODID:-//FOCUS Ministries - ECPv6.5.1.5//NONSGML v1.0//EN
CALSCALE:GREGORIAN
METHOD:PUBLISH
X-ORIGINAL-URL:https://focusministries.org
X-WR-CALDESC:Events for FOCUS Ministries
REFRESH-INTERVAL;VALUE=DURATION:PT1H
X-Robots-Tag:noindex
X-PUBLISHED-TTL:PT1H
BEGIN:VTIMEZONE
TZID:UTC
BEGIN:STANDARD
TZOFFSETFROM:+0000
TZOFFSETTO:+0000
TZNAME:UTC
DTSTART:20260101T000000
END:STANDARD
END:VTIMEZONE
BEGIN:VEVENT
DTSTART;TZID=UTC:20260617T080000
DTEND;TZID=UTC:20260706T170000
DTSTAMP:20260420T122335
CREATED:20260126T200056Z
LAST-MODIFIED:20260415T171100Z
UID:10000132-1781683200-1783357200@focusministries.org
SUMMARY:Ezra House and Gramma's House booked for wedding and 4th of July
DESCRIPTION:
URL:https://focusministries.org/event/ezra-house-and-grammas-house-booked-for-wedding-and-4th-of-july/
END:VEVENT
END:VCALENDAR