BEGIN:VCALENDAR
VERSION:2.0
PRODID:-//FOCUS Ministries - ECPv6.5.1.5//NONSGML v1.0//EN
CALSCALE:GREGORIAN
METHOD:PUBLISH
X-WR-CALNAME:FOCUS Ministries
X-ORIGINAL-URL:https://focusministries.org
X-WR-CALDESC:Events for FOCUS Ministries
REFRESH-INTERVAL;VALUE=DURATION:PT1H
X-Robots-Tag:noindex
X-PUBLISHED-TTL:PT1H
BEGIN:VTIMEZONE
TZID:UTC
BEGIN:STANDARD
TZOFFSETFROM:+0000
TZOFFSETTO:+0000
TZNAME:UTC
DTSTART:20240101T000000
END:STANDARD
END:VTIMEZONE
BEGIN:VEVENT
DTSTART;TZID=UTC:20241113T080000
DTEND;TZID=UTC:20241118T170000
DTSTAMP:20260420T195651
CREATED:20241014T190112Z
LAST-MODIFIED:20241014T190112Z
UID:10000027-1731484800-1731949200@focusministries.org
SUMMARY:Kenya Ministry (varied at churches\, men's and women's events\, schools)
DESCRIPTION:
URL:https://focusministries.org/event/kenya-ministry-varied-at-churches-mens-and-womens-events-schools/
END:VEVENT
END:VCALENDAR