BEGIN:VCALENDAR
VERSION:2.0
PRODID:-//FOCUS Ministries - ECPv6.5.1.5//NONSGML v1.0//EN
CALSCALE:GREGORIAN
METHOD:PUBLISH
X-ORIGINAL-URL:https://focusministries.org
X-WR-CALDESC:Events for FOCUS Ministries
REFRESH-INTERVAL;VALUE=DURATION:PT1H
X-Robots-Tag:noindex
X-PUBLISHED-TTL:PT1H
BEGIN:VTIMEZONE
TZID:UTC
BEGIN:STANDARD
TZOFFSETFROM:+0000
TZOFFSETTO:+0000
TZNAME:UTC
DTSTART:20240101T000000
END:STANDARD
END:VTIMEZONE
BEGIN:VEVENT
DTSTART;TZID=UTC:20240912T000000
DTEND;TZID=UTC:20240915T000000
DTSTAMP:20260420T020017
CREATED:20240625T165046Z
LAST-MODIFIED:20240625T165046Z
UID:10000013-1726099200-1726358400@focusministries.org
SUMMARY:Eastern Montana Women's Retreat for Area Nazarene Churches; Location TBD (Peg)
DESCRIPTION:
URL:https://focusministries.org/event/eastern-montana-womens-retreat-for-area-nazarene-churches-location-tbd-peg/
END:VEVENT
END:VCALENDAR