BEGIN:VCALENDAR
VERSION:2.0
PRODID:-//FOCUS Ministries - ECPv6.5.1.5//NONSGML v1.0//EN
CALSCALE:GREGORIAN
METHOD:PUBLISH
X-WR-CALNAME:FOCUS Ministries
X-ORIGINAL-URL:https://focusministries.org
X-WR-CALDESC:Events for FOCUS Ministries
REFRESH-INTERVAL;VALUE=DURATION:PT1H
X-Robots-Tag:noindex
X-PUBLISHED-TTL:PT1H
BEGIN:VTIMEZONE
TZID:UTC
BEGIN:STANDARD
TZOFFSETFROM:+0000
TZOFFSETTO:+0000
TZNAME:UTC
DTSTART:20240101T000000
END:STANDARD
END:VTIMEZONE
BEGIN:VEVENT
DTSTART;TZID=UTC:20240808T000000
DTEND;TZID=UTC:20240815T000000
DTSTAMP:20260420T051457
CREATED:20240625T164816Z
LAST-MODIFIED:20240625T164816Z
UID:10000011-1723075200-1723680000@focusministries.org
SUMMARY:Ministry "Getaway" For a Ministerial Couple in Pagosa (@ Bay & Peg's)
DESCRIPTION:
URL:https://focusministries.org/event/ministry-getaway-for-a-ministerial-couple-in-pagosa-bay-pegs-2/
END:VEVENT
END:VCALENDAR