BEGIN:VCALENDAR
VERSION:2.0
PRODID:-//FOCUS Ministries - ECPv6.5.1.5//NONSGML v1.0//EN
CALSCALE:GREGORIAN
METHOD:PUBLISH
X-WR-CALNAME:FOCUS Ministries
X-ORIGINAL-URL:https://focusministries.org
X-WR-CALDESC:Events for FOCUS Ministries
REFRESH-INTERVAL;VALUE=DURATION:PT1H
X-Robots-Tag:noindex
X-PUBLISHED-TTL:PT1H
BEGIN:VTIMEZONE
TZID:UTC
BEGIN:STANDARD
TZOFFSETFROM:+0000
TZOFFSETTO:+0000
TZNAME:UTC
DTSTART:20240101T000000
END:STANDARD
END:VTIMEZONE
BEGIN:VEVENT
DTSTART;TZID=UTC:20240723T000000
DTEND;TZID=UTC:20240727T000000
DTSTAMP:20260420T064746
CREATED:20240625T164543Z
LAST-MODIFIED:20240625T164558Z
UID:10000009-1721692800-1722038400@focusministries.org
SUMMARY:Ministry "Getaway" for Pastoral Couple in Pagosa (Bay & Peg)
DESCRIPTION:
URL:https://focusministries.org/event/ministry-getaway-for-pastoral-couple-in-pagosa-bay-peg/
END:VEVENT
END:VCALENDAR